BEGIN:VCALENDAR
VERSION:2.0
PRODID:-//EBA - ECPv6.15.20//NONSGML v1.0//EN
CALSCALE:GREGORIAN
METHOD:PUBLISH
X-ORIGINAL-URL:https://www.eba-net.org
X-WR-CALDESC:Events for EBA
REFRESH-INTERVAL;VALUE=DURATION:PT1H
X-Robots-Tag:noindex
X-PUBLISHED-TTL:PT1H
BEGIN:VTIMEZONE
TZID:America/New_York
BEGIN:DAYLIGHT
TZOFFSETFROM:-0500
TZOFFSETTO:-0400
TZNAME:EDT
DTSTART:20220313T070000
END:DAYLIGHT
BEGIN:STANDARD
TZOFFSETFROM:-0400
TZOFFSETTO:-0500
TZNAME:EST
DTSTART:20221106T060000
END:STANDARD
BEGIN:DAYLIGHT
TZOFFSETFROM:-0500
TZOFFSETTO:-0400
TZNAME:EDT
DTSTART:20230312T070000
END:DAYLIGHT
BEGIN:STANDARD
TZOFFSETFROM:-0400
TZOFFSETTO:-0500
TZNAME:EST
DTSTART:20231105T060000
END:STANDARD
BEGIN:DAYLIGHT
TZOFFSETFROM:-0500
TZOFFSETTO:-0400
TZNAME:EDT
DTSTART:20240310T070000
END:DAYLIGHT
BEGIN:STANDARD
TZOFFSETFROM:-0400
TZOFFSETTO:-0500
TZNAME:EST
DTSTART:20241103T060000
END:STANDARD
END:VTIMEZONE
BEGIN:VEVENT
DTSTART;TZID=America/New_York:20230309T140000
DTEND;TZID=America/New_York:20230309T170000
DTSTAMP:20260424T113246
CREATED:20230130T151843Z
LAST-MODIFIED:20230307T184726Z
UID:10000012-1678370400-1678381200@www.eba-net.org
SUMMARY:2023 Enforcers & Defenders Forum
DESCRIPTION:The 2023 Enforcers and Defenders Forum will take place on Thursday\, March 9 from 2:00 to 5:00 PM at Hunton Andrews Kurth’s offices in D.C. with an Enforcers’ panel\, Defenders’ panel\, and networking event. \n\n\n\nThis popular event provides a forum to discuss current issues related to enforcement and compliance in the energy sector. Our goal for this event is to share perspectives from regulators with enforcement responsibilities as well as attorneys who work with energy market participants on enforcement and compliance matters.  \n\n\n\nPlease note: this event is not open to the press and is not being recorded. \n\n\n\n\n\n \n\n\n\n\n\n\n\n2:05 PM – 3:20 PM: Enforcers Panel\n\n\n\n\n\nMichael BrooksPartnerBracewell LLP\n\n\n\n\n\nPaul HayeckDeputy Director\, Division of EnforcementCommodity Futures Trading Commission\n\n\n\n\n\nJeremy MedovoyDeputy Director of EnforcementFederal Energy Regulatory Commission\n\n\n\n\n\nTom ScanlonManaging Enforcement Counsel ReliabilityFirst\n\n\n\n\n\n3:30 PM – 4:45 PM: Defenders Panel \n\n\n\n\n\nDaniel MullenPartnerSteptoe & Johnson LLP\n\n\n\n\n\nDavid ApplebaumPartnerJones Day\n\n\n\n\n\nThe HonorableJoseph KelliherCo-Leader\, Energy Practice GroupFEDARBSenior AdvisorCARBONSINK LLCPrincipalTHREE ACORNS\n\n\n\n\n\nMichael SorrellDeputy General Counsel Futures Industry Association\n\n\n\n\n\nJohn McCaffreySenior Regulatory CounselAmerican Public Power Association\n\n\n\n\n\n        \n            \n                                                \n\n                                        \n                        Event Sponsor Slides (1200 × 600 px)                    \n\n                                    \n            \n        \n        \n\n\nRegistration Types Member  Nonmember Attorney/Energy Professional$75$95StudentFREE$20\n\n\n\n\n\nInterested in sponsoring this event? Earn complimentary registrations\, marketing benefits\, and recognition during the event. Learn more from the form below. \n\n\n\nSponsorship PDF Form \n\n\n\n\n\n\n\n\nSee EBA’s Event Policies
URL:https://www.eba-net.org/event/2023-enforcer-defender-forum/
LOCATION:Hunton Andrews Kurth LLP\, 2200 Pennsylvania Avenue NW\, Washington\, District of Columbia\, 20037
CATEGORIES:Compliance and Enforcement
ATTACH;FMTTYPE=image/png:https://www.eba-net.org/wp-content/uploads/2023/01/EBA-Upcoming-Event.png
END:VEVENT
END:VCALENDAR