BEGIN:VCALENDAR
VERSION:2.0
PRODID:-//EBA - ECPv6.15.20//NONSGML v1.0//EN
CALSCALE:GREGORIAN
METHOD:PUBLISH
X-WR-CALNAME:EBA
X-ORIGINAL-URL:https://www.eba-net.org
X-WR-CALDESC:Events for EBA
REFRESH-INTERVAL;VALUE=DURATION:PT1H
X-Robots-Tag:noindex
X-PUBLISHED-TTL:PT1H
BEGIN:VTIMEZONE
TZID:America/New_York
BEGIN:DAYLIGHT
TZOFFSETFROM:-0500
TZOFFSETTO:-0400
TZNAME:EDT
DTSTART:20230312T070000
END:DAYLIGHT
BEGIN:STANDARD
TZOFFSETFROM:-0400
TZOFFSETTO:-0500
TZNAME:EST
DTSTART:20231105T060000
END:STANDARD
BEGIN:DAYLIGHT
TZOFFSETFROM:-0500
TZOFFSETTO:-0400
TZNAME:EDT
DTSTART:20240310T070000
END:DAYLIGHT
BEGIN:STANDARD
TZOFFSETFROM:-0400
TZOFFSETTO:-0500
TZNAME:EST
DTSTART:20241103T060000
END:STANDARD
BEGIN:DAYLIGHT
TZOFFSETFROM:-0500
TZOFFSETTO:-0400
TZNAME:EDT
DTSTART:20250309T070000
END:DAYLIGHT
BEGIN:STANDARD
TZOFFSETFROM:-0400
TZOFFSETTO:-0500
TZNAME:EST
DTSTART:20251102T060000
END:STANDARD
END:VTIMEZONE
BEGIN:VEVENT
DTSTART;TZID=America/New_York:20241017T000000
DTEND;TZID=America/New_York:20241018T235959
DTSTAMP:20260425T120102
CREATED:20231206T161910Z
LAST-MODIFIED:20240709T195939Z
UID:10000049-1729123200-1729295999@www.eba-net.org
SUMMARY:2024 EBA Mid-Year Energy Forum
DESCRIPTION:The 2024 Mid-Year Energy Forum will be at The Westin Washington\, DC Downtown on Thursday and Friday\, October 17-18\, 2024. Attendees include attorneys\, energy professionals\, regulators\, and others who work in the energy law and policy arena.
URL:https://www.eba-net.org/event/2024-eba-mid-year-energy-forum/
LOCATION:The Westin Washington\, DC Downtown\, 999 Ninth Street\, NW\, Washington\, DC\, 20001
CATEGORIES:Canadian Chapter,Chapter Events,CLE Events,Compliance and Enforcement,Electricity,Energy Professional Council,Finance, Transactions, & Investments,Gas, Oils, & Liquids,In-House Counsel Coalition,Louisiana Chapter,Masters Council,Midwest Chapter,Networking Events,Northeast Chapter,Practices,Professional Education Council,Rocky Mountain Chapter,Southern Chapter,Steering Committee and Council Events,Texas Chapter,Western Chapter,Young Lawyers Council
ATTACH;FMTTYPE=image/png:https://www.eba-net.org/wp-content/uploads/2023/12/eba-upcoming-event-banners-email-size-350-×-350-px-1.png
END:VEVENT
BEGIN:VEVENT
DTSTART;TZID=America/New_York:20241017T173000
DTEND;TZID=America/New_York:20241017T193000
DTSTAMP:20260425T120102
CREATED:20240710T142914Z
LAST-MODIFIED:20240710T144046Z
UID:10000074-1729186200-1729193400@www.eba-net.org
SUMMARY:Administrative Law Judges (ALJ) Reception
DESCRIPTION:The Honorable Chief Judge Curtis L. Wagner\, Jr. ALJ Reception honors the Federal Energy Regulatory Commission’s Administrative Law Judges\, sponsored by the Foundation of the Energy Law Journal (Foundation)\, has become an annual occasion welcomed and enjoyed by the membership and friends of the Energy Bar Association. Each year\, all ALJ judges will be invited as guests of the Foundation and in past years\, nearly all of them have attended. \n\n\n\n\n\n\nLearn More
URL:https://www.eba-net.org/event/administrative-law-judges-alj-reception/
LOCATION:Baker Botts L.L.P.\, 700 K St NW\, Washington\, District of Columbia\, 20001\, United States
ATTACH;FMTTYPE=image/png:https://www.eba-net.org/wp-content/uploads/2024/07/2023-ALJ-Reception-promo-square-3.png
END:VEVENT
END:VCALENDAR