BEGIN:VCALENDAR
VERSION:2.0
PRODID:-//EBA - ECPv6.15.20//NONSGML v1.0//EN
CALSCALE:GREGORIAN
METHOD:PUBLISH
X-ORIGINAL-URL:https://www.eba-net.org
X-WR-CALDESC:Events for EBA
REFRESH-INTERVAL;VALUE=DURATION:PT1H
X-Robots-Tag:noindex
X-PUBLISHED-TTL:PT1H
BEGIN:VTIMEZONE
TZID:America/New_York
BEGIN:DAYLIGHT
TZOFFSETFROM:-0500
TZOFFSETTO:-0400
TZNAME:EDT
DTSTART:20240310T070000
END:DAYLIGHT
BEGIN:STANDARD
TZOFFSETFROM:-0400
TZOFFSETTO:-0500
TZNAME:EST
DTSTART:20241103T060000
END:STANDARD
BEGIN:DAYLIGHT
TZOFFSETFROM:-0500
TZOFFSETTO:-0400
TZNAME:EDT
DTSTART:20250309T070000
END:DAYLIGHT
BEGIN:STANDARD
TZOFFSETFROM:-0400
TZOFFSETTO:-0500
TZNAME:EST
DTSTART:20251102T060000
END:STANDARD
BEGIN:DAYLIGHT
TZOFFSETFROM:-0500
TZOFFSETTO:-0400
TZNAME:EDT
DTSTART:20260308T070000
END:DAYLIGHT
BEGIN:STANDARD
TZOFFSETFROM:-0400
TZOFFSETTO:-0500
TZNAME:EST
DTSTART:20261101T060000
END:STANDARD
END:VTIMEZONE
BEGIN:VEVENT
DTSTART;TZID=America/New_York:20250501T080000
DTEND;TZID=America/New_York:20250502T170000
DTSTAMP:20260423T161428
CREATED:20240703T192606Z
LAST-MODIFIED:20250115T195016Z
UID:10000072-1746086400-1746205200@www.eba-net.org
SUMMARY:2025 EBA Annual Meeting and Conference
DESCRIPTION:The 2025 Annual Meeting and Conference will be at The Marriott Marquis in Washington\, D.C. on Thursday and Friday\, May 1-2\, 2025. Attendees include attorneys\, energy professionals\, regulators\, and others who work in the energy law and policy arena.
URL:https://www.eba-net.org/event/2025-eba-annual-meeting-and-conference-2/
LOCATION:Marriott Marquis Washington\, DC\, 901 Massachusetts Ave NW\, Washington\, DC\, 20001\, United States
CATEGORIES:CFEBA Events,Chapter Events,CLE Events,Networking Events,Steering Committee and Council Events
ATTACH;FMTTYPE=image/png:https://www.eba-net.org/wp-content/uploads/2024/07/2025-AM-Banner.png
END:VEVENT
BEGIN:VEVENT
DTSTART;TZID=America/New_York:20250520T120000
DTEND;TZID=America/New_York:20250520T133000
DTSTAMP:20260423T161428
CREATED:20250314T175541Z
LAST-MODIFIED:20250425T155158Z
UID:10000101-1747742400-1747747800@www.eba-net.org
SUMMARY:Midwest Chapter Energizer - Utility\, Regulator\, and Developer Perspectives on Large Loads
DESCRIPTION:Join us for this virtual Midwest Chapter Energizer. The rise of artificial intelligence (“AI”) technology and advanced manufacturing is causing widespread transformation in how we plan\, build\, and pay for energy infrastructure.  Join our panelists for a candid conversation about the challenges and opportunities presented by the proliferation of large loads\, from the unique perspectives of a utility\, a developer\, and a regulator.  \n\n\n\n\nRegister Now!\n\n\n\n\n\n\nMike BennDirector\, Energy Strategy and Power ProcurementSTACK Infrastructure \n\n\n\n\n\nM. Bryan LittleAssistant General Counsel NiSource\n\n\n\n\n\nChairperson Andrew J. FrenchKansas Corporation Commission\n\n\n\n\n\n\n\n\n\nRegistration Types Member  Nonmember Registration$40$60Student RegistrationFree$10
URL:https://www.eba-net.org/event/midwest-chapter-energizer-utility-regulator-and-developer-perspectives-on-large-loads/
LOCATION:Virginia
CATEGORIES:Midwest Chapter
ATTACH;FMTTYPE=image/png:https://www.eba-net.org/wp-content/uploads/2025/03/Energizer-2.png
END:VEVENT
END:VCALENDAR