BEGIN:VCALENDAR
VERSION:2.0
PRODID:-//EBA - ECPv6.15.20//NONSGML v1.0//EN
CALSCALE:GREGORIAN
METHOD:PUBLISH
X-WR-CALNAME:EBA
X-ORIGINAL-URL:https://www.eba-net.org
X-WR-CALDESC:Events for EBA
REFRESH-INTERVAL;VALUE=DURATION:PT1H
X-Robots-Tag:noindex
X-PUBLISHED-TTL:PT1H
BEGIN:VTIMEZONE
TZID:America/Los_Angeles
BEGIN:DAYLIGHT
TZOFFSETFROM:-0800
TZOFFSETTO:-0700
TZNAME:PDT
DTSTART:20240310T100000
END:DAYLIGHT
BEGIN:STANDARD
TZOFFSETFROM:-0700
TZOFFSETTO:-0800
TZNAME:PST
DTSTART:20241103T090000
END:STANDARD
BEGIN:DAYLIGHT
TZOFFSETFROM:-0800
TZOFFSETTO:-0700
TZNAME:PDT
DTSTART:20250309T100000
END:DAYLIGHT
BEGIN:STANDARD
TZOFFSETFROM:-0700
TZOFFSETTO:-0800
TZNAME:PST
DTSTART:20251102T090000
END:STANDARD
BEGIN:DAYLIGHT
TZOFFSETFROM:-0800
TZOFFSETTO:-0700
TZNAME:PDT
DTSTART:20260308T100000
END:DAYLIGHT
BEGIN:STANDARD
TZOFFSETFROM:-0700
TZOFFSETTO:-0800
TZNAME:PST
DTSTART:20261101T090000
END:STANDARD
END:VTIMEZONE
BEGIN:VEVENT
DTSTART;TZID=America/Los_Angeles:20250828T120000
DTEND;TZID=America/Los_Angeles:20250828T130000
DTSTAMP:20260423T201354
CREATED:20250801T151221Z
LAST-MODIFIED:20250811T175635Z
UID:10000113-1756382400-1756386000@www.eba-net.org
SUMMARY:From Fragmented to Forward: Mapping the West’s Path Through EDAM and Markets+
DESCRIPTION:Please join us for a moderated discussion with representatives from SRP\, BPA\, Portland General Electric\, and the Public Service Company of NM about the evolution of wholesale markets in the West.  We’ll explore each entity’s decision-making process (including and especially any legal concerns)\, the current status of integration into their chosen market\, and their expectations for the future.  Join us for this thought-provoking discussion that is sure to be a must-listen for anyone operating in or around Western energy markets! \n\n\n\nThis Energizer will be virtual. EBA is not applying for CLE\, but will provide the materials needed for attendees to self apply\, if their state allows.  \n\n\n\n\nRegister Now!\n\n\n\n\n\n\nKelsey MartinezDirector of Regional Markets and Transmission StrategyPublic Service Company of New Mexico\n\n\n\n\n\nJosh RobertsonDirector of Energy Market StrategySalt River Project\n\n\n\n\n\nPamela SporborgDirector of Transmission and Market StrategyPortland General Electric\n\n\n\n\n\nNita ZimmermanActing Vice President of Bulk Marketing Bonneville Power Administration \n\n\n\n\n\n\n\n\n\nRegistration Types Member  Nonmember Registration$40$60Student RegistrationFree$10
URL:https://www.eba-net.org/event/from-fragmented-to-forward-mapping-the-wests-path-through-edam-and-markets/
LOCATION:Virginia
CATEGORIES:Western Chapter
ATTACH;FMTTYPE=image/png:https://www.eba-net.org/wp-content/uploads/2025/08/weba-energizer.png
END:VEVENT
END:VCALENDAR