BEGIN:VCALENDAR
VERSION:2.0
PRODID:-//EBA - ECPv6.15.20//NONSGML v1.0//EN
CALSCALE:GREGORIAN
METHOD:PUBLISH
X-ORIGINAL-URL:https://www.eba-net.org
X-WR-CALDESC:Events for EBA
REFRESH-INTERVAL;VALUE=DURATION:PT1H
X-Robots-Tag:noindex
X-PUBLISHED-TTL:PT1H
BEGIN:VTIMEZONE
TZID:America/New_York
BEGIN:DAYLIGHT
TZOFFSETFROM:-0500
TZOFFSETTO:-0400
TZNAME:EDT
DTSTART:20240310T070000
END:DAYLIGHT
BEGIN:STANDARD
TZOFFSETFROM:-0400
TZOFFSETTO:-0500
TZNAME:EST
DTSTART:20241103T060000
END:STANDARD
BEGIN:DAYLIGHT
TZOFFSETFROM:-0500
TZOFFSETTO:-0400
TZNAME:EDT
DTSTART:20250309T070000
END:DAYLIGHT
BEGIN:STANDARD
TZOFFSETFROM:-0400
TZOFFSETTO:-0500
TZNAME:EST
DTSTART:20251102T060000
END:STANDARD
BEGIN:DAYLIGHT
TZOFFSETFROM:-0500
TZOFFSETTO:-0400
TZNAME:EDT
DTSTART:20260308T070000
END:DAYLIGHT
BEGIN:STANDARD
TZOFFSETFROM:-0400
TZOFFSETTO:-0500
TZNAME:EST
DTSTART:20261101T060000
END:STANDARD
END:VTIMEZONE
BEGIN:VEVENT
DTSTART;TZID=America/New_York:20251028T000000
DTEND;TZID=America/New_York:20251028T235959
DTSTAMP:20260423T133150
CREATED:20250613T160022Z
LAST-MODIFIED:20251016T151025Z
UID:10000107-1761609600-1761695999@www.eba-net.org
SUMMARY:2025 Midwest Chapter Annual Meeting
DESCRIPTION:9:00 – 9:30 Keynote Remarks\n\n\n\nHon. Dennis P. DetersCommissionerPublic Utilities Commission of Ohio (PUCO)\n\n\n\nNearly every state in the Midwest region has seen a dramatic uptick this year in the siting\, development\, interconnection and powering of large data centers.  This year’s EBA Midwest Chapter Annual Meeting will drill down into the impacts of these new large data centers on the Midwest region from a  variety of perspectives including RTOs\, utilities and developers.  Our state updates will provide a unique overview of the legal and regulatory challenges faced by jurisdictions throughout the Midwest region. \n\n\n\n9:45 – 11:00 AM Panel 1: RTO Perspective on Powering Large Data Centers in the Midwest\n\n\n\n\n\nCraig GlazerVice President-Federal Government PolicyPJM Interconnection\, L.L.C.\n\n\n\n\n\nBrad PopeDirector of Legal and Regulatory AffairsOrganization of MISO States\n\n\n\n\n\nZhaoxia XieDirector Market Design and DevelopmentMISO\n\n\n\n\n\nMichael KesslerManaging Assistant General CounselMidcontinent Independent System Operator Inc. (MISO)\n\n\n\n\n\n11:15 – 12:30 Panel 2: Utility/Developer Perspective\n\n\n\n\n\nLucas FykesDirector\, Energy PolicyData Center CoalitionData Center Coalition\n\n\n\n\n\nM. Bryan LittleAssistant General CounselNiSource\n\n\n\n\n\nJared Schneider Product Development ManagerAmeren Missouri\n\n\n\n\n\n Jim Holsclaw Partner-in-Charge – IndianapolisCalfee\, Halter & Griswold LLP (moderator)\n\n\n\n\n\n2:00 – 3:45 PM: State-by-State Recap of Legal and Regulatory Developments in the Midwest Region\n\n\n\nThe EBA Midwest Board has worked to identify a “liaison” in each state in our footprint. That individual will help keep the Board informed of pertinent legal and regulatory developments in their respective state\, and will also help educate local members about Chapter activities and benefits. During this panel\, each liaison will give an informal update on items of interest from their respective state. The individuals invited include liaisons from MN\, WI\, NE\, IA\, IL\, KS\, MO\, MI\, IN and OH. \n\n\n\n\nIllinois – Vernita Cockrell\, Associate\, Whitt-Sturtevant\n\n\n\nIndiana – Jim Holsclaw\, Partner-in-Charge – Indianapolis\, Calfee\, Halter & Griswold LLP\n\n\n\nIowa – Haley Van Loon\, Partner\, BrownWinick Law Firm\n\n\n\nKansas – Jared Jevons and Andrew Schulte\, Shareholders\, Polsinelli\n\n\n\nMichigan – Justin Ooms\, Partner\, Varnum LLP\n\n\n\nMinnesota- Sonja Smerud\, Dorsey & Whitney\n\n\n\nMissouri – Jared Jevons and Andrew Schulte\, Shareholders\, Polsinelli\n\n\n\nNebraska – Douglas J. Law\, Associate General Counsel\, Black Hills Energy\n\n\n\nOhio – Matt Barbara\, Associate Attorney\, Calfee\n\n\n\nOklahoma – Buford Pollett\, Genave King Rogers\, Associate Professor of Energy Law and Commerce AIEN & AAPL Director of Energy Programs and Energy Law Journal Faculty Advisor\, The University of Tulsa\n\n\n\nWisconsin – Richard Heinemann\, Attorney\, Boardman & Clark LLP\n\n\n\n\n\nRegister Now!\n\n\n\n\n\nSponsor this event!\n\n\n\n\nThank You to Our Sponsors\n\n\n\n        \n            \n                                                \n\n                                        \n                        MWEBA 25 gold SponsorsMW 25 Bronze Sponsors                    \n\n                                    \n            \n        \n        \n\n\n\n\n\n\n        \n            \n                                                \n\n                                        \n                        GEMs – DiamondGEMs – EmeraldGEMs – Sapphire                    \n\n                                    \n            \n        \n        \n\n\n\n\nType Early Rate (ends 10/14/25)Late RateAttorney and Energy Professional (Member)$        295.00 $  345.00Attorney and Energy Professional (Nonmember)$        375.00 $  425.00Government (Member)$        215.00 $  265.00Government (Nonmember)$        315.00 $  365.00Student (Member)$          25.00 $    50.00Student (Nonmember)$          50.00 $    75.00\n\n\n\nTravelling from out of town? Nearby hotels include: \n\n\n\n\nResidence Inn Columbus Downtown  — 614.222.2610 — 36 E Gay St\, Columbus\, OH 43215\n\n\n\nHotel LeVeque — 614.224-9500 — 50 W. Broad Street\, Columbus\, OH (Click “Special Rates” and enter YPR for the Calfee rate)
URL:https://www.eba-net.org/event/2025-midwest-chapter-annual-meeting/
LOCATION:Calfee\, Halter & Griswold\, 41 South High Street\, Columbus\, OH\, 43215-3465\, United States
CATEGORIES:Midwest Chapter
ATTACH;FMTTYPE=image/png:https://www.eba-net.org/wp-content/uploads/2025/06/Midwest-Chapter-1.png
END:VEVENT
END:VCALENDAR