BEGIN:VCALENDAR
VERSION:2.0
PRODID:-//EBA - ECPv6.15.20//NONSGML v1.0//EN
CALSCALE:GREGORIAN
METHOD:PUBLISH
X-WR-CALNAME:EBA
X-ORIGINAL-URL:https://www.eba-net.org
X-WR-CALDESC:Events for EBA
REFRESH-INTERVAL;VALUE=DURATION:PT1H
X-Robots-Tag:noindex
X-PUBLISHED-TTL:PT1H
BEGIN:VTIMEZONE
TZID:America/Whitehorse
BEGIN:STANDARD
TZOFFSETFROM:-0700
TZOFFSETTO:-0700
TZNAME:MST
DTSTART:20250101T000000
END:STANDARD
END:VTIMEZONE
BEGIN:VEVENT
DTSTART;TZID=America/Whitehorse:20261028T000000
DTEND;TZID=America/Whitehorse:20261105T235959
DTSTAMP:20260425T070332
CREATED:20260319T184331Z
LAST-MODIFIED:20260319T195031Z
UID:10000143-1793145600-1793923199@www.eba-net.org
SUMMARY:CLE Abroad in Portugal (EBA)
DESCRIPTION:Presented by CLE Abroad \n\n\n\nThe Energy Bar Association (EBA) welcomes you and your guest(s) to join our exclusive journey through Portugal’s Old-World allure and New World splendor.  \n\n\n\n\nWhile enjoying the best of Portugal’s culinary and wine scenes\, our immersive program will engage with local experts\, attorneys\, and academics offering relevant commentary on the Portuguese and EU legal and political systems\, US-Portuguese relations\, art\, history\, architecture\, and religion. You will also learn why Portugal is fast becoming a popular haven for US and UK expats\, retirees\, digital nomads and young Americans alike. You do not want to miss this opportunity to experience the heart of Portugal while receiving CLE credit (anticipated/pending). \n\n\n\n\n\n\n\n\n \n\n\n\nSessions include: \n\n\n\n\nUS-Portugal Relations and the Portuguese Energy Market\n\n\n\nThe U.S. Investor’s Role in the Portuguese Natural Gas Sector\n\n\n\nPortuguese & EU Energy Independence\, Russian Oil\, and the War in Ukraine\n\n\n\nThe Renewable Energy Sector in Portugal\n\n\n\nA Visit to the U.S. Embassy – Lisbon and meeting with officials\n\n\n\nMeeting with the President of the American Chamber of Commerce in Portugal\n\n\n\n\nJoin our Core Program for 4-nights in Lisbon from October 28-November 1\, 2026. Add-on 3-nights in Northern Portugal\, staying in Porto from November 1-4\, 2026\, including an excursion to the breathtaking Douro Wine Valley.(Return home from Porto-OPO on November 4 if on the 7-night program).  \n\n\n\nAdd-on 1-additional night of November 4 (8 nights total) returning to Lisbon with a stop in Coimbra\, farewell dinner & overnight in Lisbon to catch flights the following morning of November 5\, 2026.  \n\n\n\n5-8 CLE Credits anticipated.  Itineraries are subject to change. All meetings & activities are subject to final confirmation with cultural calendars pending. CLE Abroad terms & conditions apply to this program.    \n\n\n\n\nView the Full Itinerary\n\n\n\n\n\nRegister Now\n\n\n\n\nRegister EARLY and SAVE!\n\n\n\nRegistrations received prior to April 30\, 2026 are eligible for the following discounts: \n\n\n\nNEW TRAVELERS: Enter code EARLYBIRD for $150 off per person.  \n\n\n\nPAST/RETURNING TRAVELERS: Enter code LOYAL for $250 off per person. \n\n\n\nPlease Note: Package prices may increase for signups received after May 15\, 2026 due to a limited number of rooms and services available at negotiated group rates.  
URL:https://www.eba-net.org/event/cle-abroad-in-portugal-eba/
LOCATION:Lisbon\, Portugal\, Porto\, Portugal
CATEGORIES:CLE Events,Networking Events
ATTACH;FMTTYPE=image/png:https://www.eba-net.org/wp-content/uploads/2026/03/GOL-2026-Half-day.png
END:VEVENT
END:VCALENDAR