BEGIN:VCALENDAR
VERSION:2.0
PRODID:-//EBA - ECPv6.15.20//NONSGML v1.0//EN
CALSCALE:GREGORIAN
METHOD:PUBLISH
X-WR-CALNAME:EBA
X-ORIGINAL-URL:https://www.eba-net.org
X-WR-CALDESC:Events for EBA
REFRESH-INTERVAL;VALUE=DURATION:PT1H
X-Robots-Tag:noindex
X-PUBLISHED-TTL:PT1H
BEGIN:VTIMEZONE
TZID:America/New_York
BEGIN:DAYLIGHT
TZOFFSETFROM:-0500
TZOFFSETTO:-0400
TZNAME:EDT
DTSTART:20240310T070000
END:DAYLIGHT
BEGIN:STANDARD
TZOFFSETFROM:-0400
TZOFFSETTO:-0500
TZNAME:EST
DTSTART:20241103T060000
END:STANDARD
BEGIN:DAYLIGHT
TZOFFSETFROM:-0500
TZOFFSETTO:-0400
TZNAME:EDT
DTSTART:20250309T070000
END:DAYLIGHT
BEGIN:STANDARD
TZOFFSETFROM:-0400
TZOFFSETTO:-0500
TZNAME:EST
DTSTART:20251102T060000
END:STANDARD
BEGIN:DAYLIGHT
TZOFFSETFROM:-0500
TZOFFSETTO:-0400
TZNAME:EDT
DTSTART:20260308T070000
END:DAYLIGHT
BEGIN:STANDARD
TZOFFSETFROM:-0400
TZOFFSETTO:-0500
TZNAME:EST
DTSTART:20261101T060000
END:STANDARD
END:VTIMEZONE
BEGIN:VEVENT
DTSTART;TZID=America/New_York:20250402T150000
DTEND;TZID=America/New_York:20250402T170000
DTSTAMP:20260423T060010
CREATED:20250221T212752Z
LAST-MODIFIED:20250331T151435Z
UID:10000097-1743606000-1743613200@www.eba-net.org
SUMMARY:2025 Enforcers and Defenders Forum
DESCRIPTION:The 2025 Enforcers and Defenders Forum will take place on Wednesday\, April 2 from 3:00 to 5:00 PM at The George Washington University Law School. \n\n\n\nThis popular event provides a forum to discuss current issues related to enforcement and compliance in the energy sector. Our goal for this event is to share perspectives from regulators with enforcement responsibilities as well as attorneys who work with energy market participants on enforcement and compliance matters. \n\n\n\nThis event is not open to the press and is not being recorded. \n\n\n\n\nRegister Now!\n\n\n\n\n\nSponsor This Event!\n\n\n\n\n3:00 – 3:10 – Welcome Remarks\n\n\n\n\n\nDayna Bowen MatthewDean and Harold H. Greene Professor of LawGeorge Washington University Law School\n\n\n\n\n\n \n\n\n\n\n\n\n\n\n\n3:10 – 4:00 – Enforcers Panel\n\n\n\n\n\nBrian YoungDirector of EnforcementCommodity Futures Trading Commission\n\n\n\n\n\nJay MatsonDeputy Director – Division of InvestigationsFERC Office of Enforcement \n\n\n\n\n\nModerated by: Jeremy MedovoyPartnerMcGuireWoods\n\n\n\n\n\n4:10 – 5:00 – Defenders Panel\n\n\n\n\n\nKathleen (Katy) McArthurPartnerSullivan & Cromwell LLP\n\n\n\n\n\nJohn ShepherdPartnerHunton Andrews Kurth LLP \n\n\n\n\n\nLevi McAllisterPartnerMorgan Lewis\n\n\n\n\n\nModerated by: Michael BrooksPartnerBracewell \n\n\n\n\n\n5:00 – Happy Hour\n\n\n\n        \n            \n                                                \n\n                                        \n                        hosts (2)                    \n\n                                    \n            \n        \n        \n\n\n\n\n\nRegister Now!\n\n\n\n\nRegistration Types Member  Nonmember Registration$75$95Student RegistrationFreeFree
URL:https://www.eba-net.org/event/2025-enforcers-and-defenders-forum/
LOCATION:The George Washington University Law School\, 716 20th st. NW\, Washington\, DC\, 20052\, United States
CATEGORIES:Compliance and Enforcement
ATTACH;FMTTYPE=image/png:https://www.eba-net.org/wp-content/uploads/2025/02/eba-upcoming-event-banners-email-size-350-×-350-px-1.png
END:VEVENT
END:VCALENDAR