BEGIN:VCALENDAR
VERSION:2.0
PRODID:-//EBA - ECPv6.15.20//NONSGML v1.0//EN
CALSCALE:GREGORIAN
METHOD:PUBLISH
X-ORIGINAL-URL:https://www.eba-net.org
X-WR-CALDESC:Events for EBA
REFRESH-INTERVAL;VALUE=DURATION:PT1H
X-Robots-Tag:noindex
X-PUBLISHED-TTL:PT1H
BEGIN:VTIMEZONE
TZID:America/New_York
BEGIN:DAYLIGHT
TZOFFSETFROM:-0500
TZOFFSETTO:-0400
TZNAME:EDT
DTSTART:20230312T070000
END:DAYLIGHT
BEGIN:STANDARD
TZOFFSETFROM:-0400
TZOFFSETTO:-0500
TZNAME:EST
DTSTART:20231105T060000
END:STANDARD
BEGIN:DAYLIGHT
TZOFFSETFROM:-0500
TZOFFSETTO:-0400
TZNAME:EDT
DTSTART:20240310T070000
END:DAYLIGHT
BEGIN:STANDARD
TZOFFSETFROM:-0400
TZOFFSETTO:-0500
TZNAME:EST
DTSTART:20241103T060000
END:STANDARD
BEGIN:DAYLIGHT
TZOFFSETFROM:-0500
TZOFFSETTO:-0400
TZNAME:EDT
DTSTART:20250309T070000
END:DAYLIGHT
BEGIN:STANDARD
TZOFFSETFROM:-0400
TZOFFSETTO:-0500
TZNAME:EST
DTSTART:20251102T060000
END:STANDARD
END:VTIMEZONE
BEGIN:VEVENT
DTSTART;TZID=America/New_York:20241107T113000
DTEND;TZID=America/New_York:20241107T121500
DTSTAMP:20260425T105317
CREATED:20241007T144711Z
LAST-MODIFIED:20241007T201046Z
UID:10000081-1730979000-1730981700@www.eba-net.org
SUMMARY:Career Chat with FERC Chairman Phillips
DESCRIPTION:EBA’s Young Lawyer Council invites students and young lawyers to attend this career chat with Chairman Phillips. This event will generally feature a discussion with the Chairman on his career and advice for young attorneys on mentorship\, the importance of diversity\, and the early stages of one’s career.  This event will be capped at 20 people with a waitlist based on registration numbers. Registration is limited to EBA Young Lawyer and Student members. \n\n\n\n\nRegister Now!
URL:https://www.eba-net.org/event/career-chat-with-ferc-chairman-phillips/
LOCATION:FERC\, 888 First St. NE\, Washington\, District of Columbia\, 20426\, United States
CATEGORIES:Young Lawyers Council
ATTACH;FMTTYPE=image/png:https://www.eba-net.org/wp-content/uploads/2024/10/eba-upcoming-event-banners-email-size-350-×-350-px.png
END:VEVENT
END:VCALENDAR