BEGIN:VCALENDAR
VERSION:2.0
PRODID:-//EBA - ECPv6.15.20//NONSGML v1.0//EN
CALSCALE:GREGORIAN
METHOD:PUBLISH
X-WR-CALNAME:EBA
X-ORIGINAL-URL:https://www.eba-net.org
X-WR-CALDESC:Events for EBA
REFRESH-INTERVAL;VALUE=DURATION:PT1H
X-Robots-Tag:noindex
X-PUBLISHED-TTL:PT1H
BEGIN:VTIMEZONE
TZID:America/New_York
BEGIN:DAYLIGHT
TZOFFSETFROM:-0500
TZOFFSETTO:-0400
TZNAME:EDT
DTSTART:20240310T070000
END:DAYLIGHT
BEGIN:STANDARD
TZOFFSETFROM:-0400
TZOFFSETTO:-0500
TZNAME:EST
DTSTART:20241103T060000
END:STANDARD
BEGIN:DAYLIGHT
TZOFFSETFROM:-0500
TZOFFSETTO:-0400
TZNAME:EDT
DTSTART:20250309T070000
END:DAYLIGHT
BEGIN:STANDARD
TZOFFSETFROM:-0400
TZOFFSETTO:-0500
TZNAME:EST
DTSTART:20251102T060000
END:STANDARD
BEGIN:DAYLIGHT
TZOFFSETFROM:-0500
TZOFFSETTO:-0400
TZNAME:EDT
DTSTART:20260308T070000
END:DAYLIGHT
BEGIN:STANDARD
TZOFFSETFROM:-0400
TZOFFSETTO:-0500
TZNAME:EST
DTSTART:20261101T060000
END:STANDARD
END:VTIMEZONE
BEGIN:VEVENT
DTSTART;TZID=America/New_York:20250304T163000
DTEND;TZID=America/New_York:20250304T183000
DTSTAMP:20260425T062047
CREATED:20250129T213607Z
LAST-MODIFIED:20250226T155154Z
UID:10000094-1741105800-1741113000@www.eba-net.org
SUMMARY:Mentorship Fireside Chat
DESCRIPTION:Please join the YLC for an evening celebrating the launch of EBA’s new SLC/YLC mentorship program. This event will feature a fireside chat between Michael Brooks (Partner\, Bracewell) and Serena Rwejuna (Partner\, White & Case) moderated by YLC Vice-Chair\, Jackie Triggs (Associate\, White & Case). The fireside discussion should provide EBA members with a unique perspective of three generations of mentor/mentee relationships and virtual participation will be available for this portion of the programming. An in-person networking happy hour will follow the fireside chat. Light bites and drinks will be served.  \n\n\n\n\nRegister Now\n\n\n\n\n\n\nJackie TriggsAssociateWhite & Case\n\n\n\n\n\nSerena RwejunaPartnerWhite & Case\n\n\n\n\n\nMichael BrooksPartnerBracewell LLP
URL:https://www.eba-net.org/event/mentorship-fireside-chat/
LOCATION:White & Case LLP (Washington DC)\, 701 13th Street\, NW\, Washington\, District of Columbia\, 20005\, United States
CATEGORIES:Young Lawyers Council
ATTACH;FMTTYPE=image/png:https://www.eba-net.org/wp-content/uploads/2025/01/eba-upcoming-event-banners-email-size-350-×-350-px.png
END:VEVENT
END:VCALENDAR