BEGIN:VCALENDAR
VERSION:2.0
PRODID:-//EBA - ECPv6.15.20//NONSGML v1.0//EN
CALSCALE:GREGORIAN
METHOD:PUBLISH
X-WR-CALNAME:EBA
X-ORIGINAL-URL:https://www.eba-net.org
X-WR-CALDESC:Events for EBA
REFRESH-INTERVAL;VALUE=DURATION:PT1H
X-Robots-Tag:noindex
X-PUBLISHED-TTL:PT1H
BEGIN:VTIMEZONE
TZID:America/New_York
BEGIN:DAYLIGHT
TZOFFSETFROM:-0500
TZOFFSETTO:-0400
TZNAME:EDT
DTSTART:20250309T070000
END:DAYLIGHT
BEGIN:STANDARD
TZOFFSETFROM:-0400
TZOFFSETTO:-0500
TZNAME:EST
DTSTART:20251102T060000
END:STANDARD
BEGIN:DAYLIGHT
TZOFFSETFROM:-0500
TZOFFSETTO:-0400
TZNAME:EDT
DTSTART:20260308T070000
END:DAYLIGHT
BEGIN:STANDARD
TZOFFSETFROM:-0400
TZOFFSETTO:-0500
TZNAME:EST
DTSTART:20261101T060000
END:STANDARD
BEGIN:DAYLIGHT
TZOFFSETFROM:-0500
TZOFFSETTO:-0400
TZNAME:EDT
DTSTART:20270314T070000
END:DAYLIGHT
BEGIN:STANDARD
TZOFFSETFROM:-0400
TZOFFSETTO:-0500
TZNAME:EST
DTSTART:20271107T060000
END:STANDARD
END:VTIMEZONE
BEGIN:VEVENT
DTSTART;TZID=America/New_York:20260115T120000
DTEND;TZID=America/New_York:20260115T130000
DTSTAMP:20260422T110816
CREATED:20251218T195548Z
LAST-MODIFIED:20251222T175912Z
UID:10000133-1768478400-1768482000@www.eba-net.org
SUMMARY:Young Lawyers Council Energizer: State Practitioner Panel
DESCRIPTION:Please join our Young Lawyers Council for this engaging energizer. The aim of this event is to highlight different state-level energy regulatory career paths for law students and new energy lawyers and to provide a discussion on state legislative developments that are impacting our speakers. \n\n\n\n\nRegister Now\n\n\n\n\n\n\nMaria C. FacontiPartnerK&L Gates\n\n\n\n\n\nNicole GivenSpecial CounselSouth Carolina Public Service Commission\n\n\n\n\n\nJoshua SchneiderAssociateHarris Beach Murtha\n\n\n\n\n\nTyShawn Key\, Esq. Associate CounselNew Jersey Board of Public Utilities(Moderator)\n\n\n\n\n\nRegistration Types Member  Nonmember RegistrationFree$40Student RegistrationFree$10\n\n\n\n**Please note that there is no CLE for this program.
URL:https://www.eba-net.org/event/young-lawyers-council-energizer-state-practitioner-panel/
LOCATION:Virginia
CATEGORIES:Young Lawyers Council
ATTACH;FMTTYPE=image/png:https://www.eba-net.org/wp-content/uploads/2025/12/Energizer.png
END:VEVENT
END:VCALENDAR